BEGIN:VCALENDAR
VERSION:2.0
PRODID:-//Faith Mission Home - 信宣之家 - ECPv6.15.17.1//NONSGML v1.0//EN
CALSCALE:GREGORIAN
METHOD:PUBLISH
X-WR-CALNAME:Faith Mission Home - 信宣之家
X-ORIGINAL-URL:https://faithmissionhome.org
X-WR-CALDESC:Events for Faith Mission Home - 信宣之家
REFRESH-INTERVAL;VALUE=DURATION:PT1H
X-Robots-Tag:noindex
X-PUBLISHED-TTL:PT1H
BEGIN:VTIMEZONE
TZID:Asia/Singapore
BEGIN:STANDARD
TZOFFSETFROM:+0800
TZOFFSETTO:+0800
TZNAME:+08
DTSTART:20250101T000000
END:STANDARD
END:VTIMEZONE
BEGIN:VEVENT
DTSTART;TZID=Asia/Singapore:20260203T090000
DTEND;TZID=Asia/Singapore:20260204T130000
DTSTAMP:20260424T233624
CREATED:20260119T021030Z
LAST-MODIFIED:20260119T021030Z
UID:1888-1770109200-1770210000@faithmissionhome.org
SUMMARY:Project Timothy. 3-4 Feb (Tue & Wed)\, 9am-1pm
DESCRIPTION:Join Rev Dr Ben Thompson as he helps us through the themes and ideas in the book of Leviticus\, as well as guidance on how to teach it.\nVenue: Grace Baptist Church\, 17 Matter Rd\, S(387722)\nSignup: https://www.projecttimothy.com/events/bibleunwrapped2026
URL:https://faithmissionhome.org/event/project-timothy-3-4-feb-tue-wed-9am-1pm/
END:VEVENT
END:VCALENDAR