BEGIN:VCALENDAR
VERSION:2.0
PRODID:-//Faith Mission Home - 信宣之家 - ECPv6.15.17.1//NONSGML v1.0//EN
CALSCALE:GREGORIAN
METHOD:PUBLISH
X-ORIGINAL-URL:https://faithmissionhome.org
X-WR-CALDESC:Events for Faith Mission Home - 信宣之家
REFRESH-INTERVAL;VALUE=DURATION:PT1H
X-Robots-Tag:noindex
X-PUBLISHED-TTL:PT1H
BEGIN:VTIMEZONE
TZID:Asia/Singapore
BEGIN:STANDARD
TZOFFSETFROM:+0800
TZOFFSETTO:+0800
TZNAME:+08
DTSTART:20250101T000000
END:STANDARD
END:VTIMEZONE
BEGIN:VEVENT
DTSTART;TZID=Asia/Singapore:20260412T113000
DTEND;TZID=Asia/Singapore:20260412T130000
DTSTAMP:20260424T213957
CREATED:20260119T011725Z
LAST-MODIFIED:20260119T015215Z
UID:1876-1775993400-1775998800@faithmissionhome.org
SUMMARY:Christianity Explored
DESCRIPTION:Christianity Explored is a course designed to introduce you to Jesus\, and so get to the heart of the Christian message. Come along for the first session\, and see if it’s for you! Lunch will be provided.\nNext run starting: 12 Apr 2026\nSign up: chester@faithmissionhome.sg
URL:https://faithmissionhome.org/event/christianity-explored/
LOCATION:FMH Building\, 12 Lorong 11 Geylang Road\, 388704\, Singapore
CATEGORIES:Church Activities
ORGANIZER;CN="FMH":MAILTO:chester@faithmissionhome.sg
END:VEVENT
END:VCALENDAR